Package: scoreInvHap Version: 1.30.0 Command: rm -rf scoreInvHap.buildbin-libdir && mkdir scoreInvHap.buildbin-libdir && /Users/biocbuild/BBS/utils/build-universal.sh scoreInvHap_1.30.0.tar.gz /Library/Frameworks/R.framework/Resources/bin/R scoreInvHap.buildbin-libdir StartedAt: 2025-05-17 17:19:13 -0400 (Sat, 17 May 2025) EndedAt: 2025-05-17 17:20:07 -0400 (Sat, 17 May 2025) EllapsedTime: 53.3 seconds RetCode: 0 Status: OK PackageFile: scoreInvHap_1.30.0.tgz PackageFileSize: 1.525 MiB