Package: scmeth Version: 1.28.0 Command: rm -rf scmeth.buildbin-libdir && mkdir scmeth.buildbin-libdir && E:\biocbuild\bbs-3.21-bioc\R\bin\R.exe CMD INSTALL --build --library=scmeth.buildbin-libdir scmeth_1.28.0.tar.gz StartedAt: 2025-08-15 10:14:29 -0400 (Fri, 15 Aug 2025) EndedAt: 2025-08-15 10:15:25 -0400 (Fri, 15 Aug 2025) EllapsedTime: 56.4 seconds RetCode: 0 Status: OK PackageFile: scmeth_1.28.0.zip PackageFileSize: 781.5 KiB