Package: scmeth Version: 1.28.0 Maintainer: Divy Kangeyan MaintainerEmail: divyswar01 at g.harvard.edu git_url: https://git.bioconductor.org/packages/scmeth git_branch: RELEASE_3_21 git_last_commit: 3d37259 git_last_commit_date: 2025-04-15 11:18:08 -0400 (Tue, 15 Apr 2025)