Package: scifer Version: 1.10.0 Command: rm -rf scifer.buildbin-libdir && mkdir scifer.buildbin-libdir && E:\biocbuild\bbs-3.21-bioc\R\bin\R.exe CMD INSTALL --build --library=scifer.buildbin-libdir scifer_1.10.0.tar.gz StartedAt: 2025-08-15 10:14:19 -0400 (Fri, 15 Aug 2025) EndedAt: 2025-08-15 10:14:54 -0400 (Fri, 15 Aug 2025) EllapsedTime: 35.6 seconds RetCode: 0 Status: OK PackageFile: scifer_1.10.0.zip PackageFileSize: 1.095 MiB