Package: scifer Version: 1.10.0 Command: /home/biocbuild/R/R/bin/R CMD INSTALL scifer StartedAt: 2025-05-05 21:07:04 -0000 (Mon, 05 May 2025) EndedAt: 2025-05-05 21:07:25 -0000 (Mon, 05 May 2025) EllapsedTime: 20.9 seconds RetCode: 0 Status: OK