Package: scifer Version: 1.10.0 Command: /home/biocbuild/R/R/bin/R CMD check --install=check:scifer.install-out.txt --library=/home/biocbuild/R/R/site-library --no-vignettes --timings scifer_1.10.0.tar.gz StartedAt: 2025-05-06 13:16:12 -0000 (Tue, 06 May 2025) EndedAt: 2025-05-06 13:26:06 -0000 (Tue, 06 May 2025) EllapsedTime: 593.4 seconds RetCode: 0 Status: OK CheckDir: scifer.Rcheck Warnings: 0