Package: scifer Version: 1.10.0 Command: /home/biocbuild/R/R/bin/R CMD build --keep-empty-dirs --no-resave-data scifer StartedAt: 2025-05-06 04:10:19 -0000 (Tue, 06 May 2025) EndedAt: 2025-05-06 04:12:33 -0000 (Tue, 06 May 2025) EllapsedTime: 134.0 seconds RetCode: 0 Status: OK PackageFile: scifer_1.10.0.tar.gz PackageFileSize: 1.225 MiB