Package: scifer Version: 1.10.0 Command: /Library/Frameworks/R.framework/Resources/bin/R CMD INSTALL scifer StartedAt: 2025-04-21 15:26:33 -0400 (Mon, 21 Apr 2025) EndedAt: 2025-04-21 15:26:40 -0400 (Mon, 21 Apr 2025) EllapsedTime: 7.2 seconds RetCode: 0 Status: OK