Package: scifer Version: 1.10.0 Command: /Library/Frameworks/R.framework/Resources/bin/R CMD build --keep-empty-dirs --no-resave-data scifer StartedAt: 2025-04-21 17:34:34 -0400 (Mon, 21 Apr 2025) EndedAt: 2025-04-21 17:35:07 -0400 (Mon, 21 Apr 2025) EllapsedTime: 33.4 seconds RetCode: 0 Status: OK PackageFile: scifer_1.10.0.tar.gz PackageFileSize: 1.525 MiB