Package: scifer Version: 1.10.0 Command: /Library/Frameworks/R.framework/Resources/bin/R CMD INSTALL scifer StartedAt: 2025-05-05 17:50:55 -0400 (Mon, 05 May 2025) EndedAt: 2025-05-05 17:51:14 -0400 (Mon, 05 May 2025) EllapsedTime: 18.5 seconds RetCode: 0 Status: OK