Package: scifer Version: 1.10.0 Command: /Library/Frameworks/R.framework/Resources/bin/R CMD check --install=check:scifer.install-out.txt --library=/Library/Frameworks/R.framework/Resources/library --no-vignettes --timings scifer_1.10.0.tar.gz StartedAt: 2025-05-10 08:24:24 -0400 (Sat, 10 May 2025) EndedAt: 2025-05-10 08:31:58 -0400 (Sat, 10 May 2025) EllapsedTime: 454.3 seconds RetCode: 0 Status: OK CheckDir: scifer.Rcheck Warnings: 0