Package: scifer Version: 1.10.0 Command: /Library/Frameworks/R.framework/Resources/bin/R CMD build --keep-empty-dirs --no-resave-data scifer StartedAt: 2025-05-09 07:52:36 -0400 (Fri, 09 May 2025) EndedAt: 2025-05-09 07:54:14 -0400 (Fri, 09 May 2025) EllapsedTime: 97.3 seconds RetCode: 0 Status: OK PackageFile: scifer_1.10.0.tar.gz PackageFileSize: 1.525 MiB