############################################################################## ############################################################################## ### ### Running command: ### ### /home/biocbuild/R/R/bin/R CMD build --keep-empty-dirs --no-resave-data scider ### ############################################################################## ############################################################################## * checking for file ‘scider/DESCRIPTION’ ... OK * preparing ‘scider’: * checking DESCRIPTION meta-information ... OK * installing the package to build vignettes ----------------------------------- ERROR: dependencies ‘sf’, ‘lwgeom’ are not available for package ‘scider’ * removing ‘/home/biocbuild/tmp/RtmpsJwwlJ/Rinst10c8ba4b57c926/scider’ ----------------------------------- ERROR: package installation failed