Package: scider Version: 1.4.0 Command: /home/biocbuild/bbs-3.20-bioc/R/bin/R CMD build --keep-empty-dirs --no-resave-data --md5 scider StartedAt: 2025-01-30 19:01:53 -0500 (Thu, 30 Jan 2025) EndedAt: 2025-01-30 19:03:12 -0500 (Thu, 30 Jan 2025) EllapsedTime: 79.1 seconds RetCode: 0 Status: OK PackageFile: scider_1.4.0.tar.gz PackageFileSize: 2.256 MiB