Package: scider Version: 1.6.0 Command: rm -rf scider.buildbin-libdir && mkdir scider.buildbin-libdir && /Users/biocbuild/BBS/utils/build-universal.sh scider_1.6.0.tar.gz /Library/Frameworks/R.framework/Resources/bin/R scider.buildbin-libdir StartedAt: 2025-04-21 22:51:20 -0400 (Mon, 21 Apr 2025) EndedAt: 2025-04-21 22:51:34 -0400 (Mon, 21 Apr 2025) EllapsedTime: 13.3 seconds RetCode: 0 Status: OK PackageFile: scider_1.6.0.tgz PackageFileSize: 2.966 MiB