Package: schex Version: 1.20.0 Command: /home/biocbuild/R/R/bin/R CMD build --keep-empty-dirs --no-resave-data schex StartedAt: 2025-02-04 02:41:29 -0000 (Tue, 04 Feb 2025) EndedAt: 2025-02-04 02:41:31 -0000 (Tue, 04 Feb 2025) EllapsedTime: 2.0 seconds RetCode: 1 Status: ERROR PackageFile: None PackageFileSize: NA