Package: schex Version: 1.20.0 Command: F:\biocbuild\bbs-3.20-bioc\R\bin\R.exe CMD INSTALL schex StartedAt: 2025-02-03 16:46:26 -0500 (Mon, 03 Feb 2025) EndedAt: 2025-02-03 16:47:08 -0500 (Mon, 03 Feb 2025) EllapsedTime: 41.9 seconds RetCode: 0 Status: OK