Package: schex Version: 1.20.0 Command: /Library/Frameworks/R.framework/Resources/bin/R CMD build --keep-empty-dirs --no-resave-data schex StartedAt: 2025-02-13 21:55:58 -0500 (Thu, 13 Feb 2025) EndedAt: 2025-02-13 22:00:04 -0500 (Thu, 13 Feb 2025) EllapsedTime: 246.0 seconds RetCode: 0 Status: OK PackageFile: schex_1.20.0.tar.gz PackageFileSize: 3.69 MiB