Package: schex Version: 1.20.0 Command: rm -rf schex.buildbin-libdir && mkdir schex.buildbin-libdir && /Users/biocbuild/BBS/utils/build-universal.sh schex_1.20.0.tar.gz /Library/Frameworks/R.framework/Resources/bin/R schex.buildbin-libdir StartedAt: 2025-02-14 15:43:19 -0500 (Fri, 14 Feb 2025) EndedAt: 2025-02-14 15:44:16 -0500 (Fri, 14 Feb 2025) EllapsedTime: 57.4 seconds RetCode: 0 Status: OK PackageFile: schex_1.20.0.tgz PackageFileSize: 2.396 MiB