Package: scds Version: 1.24.0 Command: /Library/Frameworks/R.framework/Resources/bin/R CMD build --keep-empty-dirs --no-resave-data scds StartedAt: 2025-04-21 18:19:06 -0400 (Mon, 21 Apr 2025) EndedAt: 2025-04-21 18:20:14 -0400 (Mon, 21 Apr 2025) EllapsedTime: 68.3 seconds RetCode: 0 Status: OK PackageFile: scds_1.24.0.tar.gz PackageFileSize: 1.417 MiB