Package: scds Version: 1.24.0 Command: /Library/Frameworks/R.framework/Resources/bin/R CMD check --install=check:scds.install-out.txt --library=/Library/Frameworks/R.framework/Resources/library --no-vignettes --timings scds_1.24.0.tar.gz StartedAt: 2025-05-07 08:53:14 -0400 (Wed, 07 May 2025) EndedAt: 2025-05-07 08:56:46 -0400 (Wed, 07 May 2025) EllapsedTime: 211.2 seconds RetCode: 0 Status: OK CheckDir: scds.Rcheck Warnings: 0