Package: scde Version: 2.34.0 Command: /home/biocbuild/R/R/bin/R CMD check --install=check:scde.install-out.txt --library=/home/biocbuild/R/R/site-library --no-vignettes --timings scde_2.34.0.tar.gz StartedAt: 2025-02-04 10:47:40 -0000 (Tue, 04 Feb 2025) EndedAt: 2025-02-04 10:50:20 -0000 (Tue, 04 Feb 2025) EllapsedTime: 160.2 seconds RetCode: 0 Status: WARNINGS CheckDir: scde.Rcheck Warnings: 2