Package: scatterHatch Version: 1.12.0 Command: chmod a+r scatterHatch -R && F:\biocbuild\bbs-3.20-bioc\R\bin\R.exe CMD build --keep-empty-dirs --no-resave-data scatterHatch StartedAt: 2025-01-30 21:37:10 -0500 (Thu, 30 Jan 2025) EndedAt: 2025-01-30 21:38:37 -0500 (Thu, 30 Jan 2025) EllapsedTime: 87.8 seconds RetCode: 0 Status: OK PackageFile: scatterHatch_1.12.0.tar.gz PackageFileSize: 1.456 MiB