Package: scatterHatch Version: 1.14.0 Command: /Library/Frameworks/R.framework/Resources/bin/R CMD build --keep-empty-dirs --no-resave-data scatterHatch StartedAt: 2025-05-15 22:17:18 -0400 (Thu, 15 May 2025) EndedAt: 2025-05-15 22:18:46 -0400 (Thu, 15 May 2025) EllapsedTime: 87.6 seconds RetCode: 0 Status: OK PackageFile: scatterHatch_1.14.0.tar.gz PackageFileSize: 3.861 MiB