Package: scatterHatch Version: 1.14.0 Command: rm -rf scatterHatch.buildbin-libdir && mkdir scatterHatch.buildbin-libdir && /Users/biocbuild/BBS/utils/build-universal.sh scatterHatch_1.14.0.tar.gz /Library/Frameworks/R.framework/Resources/bin/R scatterHatch.buildbin-libdir StartedAt: 2025-05-16 13:41:09 -0400 (Fri, 16 May 2025) EndedAt: 2025-05-16 13:41:32 -0400 (Fri, 16 May 2025) EllapsedTime: 22.6 seconds RetCode: 0 Status: OK PackageFile: scatterHatch_1.14.0.tgz PackageFileSize: 3.902 MiB