Package: scatterHatch Version: 1.14.0 Command: rm -rf scatterHatch.buildbin-libdir && mkdir scatterHatch.buildbin-libdir && /Users/biocbuild/BBS/utils/build-universal.sh scatterHatch_1.14.0.tar.gz /Library/Frameworks/R.framework/Resources/bin/R scatterHatch.buildbin-libdir StartedAt: 2025-04-22 01:06:48 -0400 (Tue, 22 Apr 2025) EndedAt: 2025-04-22 01:07:01 -0400 (Tue, 22 Apr 2025) EllapsedTime: 12.6 seconds RetCode: 0 Status: OK PackageFile: scatterHatch_1.14.0.tgz PackageFileSize: 3.902 MiB