Package: scatterHatch Version: 1.14.0 Command: /home/biocbuild/R/R/bin/R CMD build --keep-empty-dirs --no-resave-data scatterHatch StartedAt: 2025-05-16 03:56:34 -0000 (Fri, 16 May 2025) EndedAt: 2025-05-16 03:57:15 -0000 (Fri, 16 May 2025) EllapsedTime: 41.0 seconds RetCode: 0 Status: OK PackageFile: scatterHatch_1.14.0.tar.gz PackageFileSize: 3.044 MiB