Package: scatterHatch Version: 1.14.0 Command: /Library/Frameworks/R.framework/Resources/bin/R CMD build --keep-empty-dirs --no-resave-data scatterHatch StartedAt: 2025-04-21 17:32:22 -0400 (Mon, 21 Apr 2025) EndedAt: 2025-04-21 17:32:37 -0400 (Mon, 21 Apr 2025) EllapsedTime: 15.2 seconds RetCode: 0 Status: OK PackageFile: scatterHatch_1.14.0.tar.gz PackageFileSize: 4.245 MiB