Package: scatterHatch Version: 1.14.0 Command: rm -rf scatterHatch.buildbin-libdir && mkdir scatterHatch.buildbin-libdir && /Users/biocbuild/BBS/utils/build-universal.sh scatterHatch_1.14.0.tar.gz /Library/Frameworks/R.framework/Resources/bin/R scatterHatch.buildbin-libdir StartedAt: 2025-04-21 22:50:55 -0400 (Mon, 21 Apr 2025) EndedAt: 2025-04-21 22:50:59 -0400 (Mon, 21 Apr 2025) EllapsedTime: 4.1 seconds RetCode: 0 Status: OK PackageFile: scatterHatch_1.14.0.tgz PackageFileSize: 4.286 MiB