Package: scatterHatch Version: 1.14.0 Command: /Library/Frameworks/R.framework/Resources/bin/R CMD INSTALL scatterHatch StartedAt: 2025-05-15 15:17:59 -0400 (Thu, 15 May 2025) EndedAt: 2025-05-15 15:18:08 -0400 (Thu, 15 May 2025) EllapsedTime: 8.2 seconds RetCode: 0 Status: OK