Package: scatterHatch Version: 1.14.0 Command: /Library/Frameworks/R.framework/Resources/bin/R CMD check --install=check:scatterHatch.install-out.txt --library=/Library/Frameworks/R.framework/Resources/library --no-vignettes --timings scatterHatch_1.14.0.tar.gz StartedAt: 2025-05-21 08:10:19 -0400 (Wed, 21 May 2025) EndedAt: 2025-05-21 08:12:10 -0400 (Wed, 21 May 2025) EllapsedTime: 110.6 seconds RetCode: 0 Status: OK CheckDir: scatterHatch.Rcheck Warnings: 0