Package: scanMiRApp Version: 1.12.0 Command: chmod a+r scanMiRApp -R && F:\biocbuild\bbs-3.20-bioc\R\bin\R.exe CMD build --keep-empty-dirs --no-resave-data scanMiRApp StartedAt: 2025-01-30 21:36:17 -0500 (Thu, 30 Jan 2025) EndedAt: 2025-01-30 21:37:56 -0500 (Thu, 30 Jan 2025) EllapsedTime: 99.7 seconds RetCode: 0 Status: OK PackageFile: scanMiRApp_1.12.0.tar.gz PackageFileSize: 878.6 KiB