Package: scanMiRApp Version: 1.14.0 Command: /Library/Frameworks/R.framework/Resources/bin/R CMD INSTALL scanMiRApp StartedAt: 2025-05-08 16:33:50 -0400 (Thu, 08 May 2025) EndedAt: 2025-05-08 16:35:29 -0400 (Thu, 08 May 2025) EllapsedTime: 98.5 seconds RetCode: 0 Status: OK