Package: scanMiRApp Version: 1.14.0 Command: /Library/Frameworks/R.framework/Resources/bin/R CMD check --install=check:scanMiRApp.install-out.txt --library=/Library/Frameworks/R.framework/Resources/library --no-vignettes --timings scanMiRApp_1.14.0.tar.gz StartedAt: 2025-05-13 09:36:17 -0400 (Tue, 13 May 2025) EndedAt: 2025-05-13 09:46:45 -0400 (Tue, 13 May 2025) EllapsedTime: 627.5 seconds RetCode: 0 Status: OK CheckDir: scanMiRApp.Rcheck Warnings: 0