Package: scanMiRApp Version: 1.14.0 Command: rm -rf scanMiRApp.buildbin-libdir && mkdir scanMiRApp.buildbin-libdir && /Users/biocbuild/BBS/utils/build-universal.sh scanMiRApp_1.14.0.tar.gz /Library/Frameworks/R.framework/Resources/bin/R scanMiRApp.buildbin-libdir StartedAt: 2025-05-13 14:01:29 -0400 (Tue, 13 May 2025) EndedAt: 2025-05-13 14:03:29 -0400 (Tue, 13 May 2025) EllapsedTime: 120.3 seconds RetCode: 0 Status: OK PackageFile: scanMiRApp_1.14.0.tgz PackageFileSize: 1.338 MiB