Package: scanMiRApp Version: 1.14.0 Command: rm -rf scanMiRApp.buildbin-libdir && mkdir scanMiRApp.buildbin-libdir && /Users/biocbuild/BBS/utils/build-universal.sh scanMiRApp_1.14.0.tar.gz /Library/Frameworks/R.framework/Resources/bin/R scanMiRApp.buildbin-libdir StartedAt: 2025-04-22 01:06:42 -0400 (Tue, 22 Apr 2025) EndedAt: 2025-04-22 01:07:45 -0400 (Tue, 22 Apr 2025) EllapsedTime: 63.3 seconds RetCode: 0 Status: OK PackageFile: scanMiRApp_1.14.0.tgz PackageFileSize: 1.339 MiB