Package: scanMiRApp Version: 1.14.0 Command: /home/biocbuild/R/R/bin/R CMD build --keep-empty-dirs --no-resave-data scanMiRApp StartedAt: 2025-05-13 03:56:07 -0000 (Tue, 13 May 2025) EndedAt: 2025-05-13 03:57:48 -0000 (Tue, 13 May 2025) EllapsedTime: 100.1 seconds RetCode: 0 Status: OK PackageFile: scanMiRApp_1.14.0.tar.gz PackageFileSize: 950.6 KiB