Package: scanMiRApp Version: 1.12.0 Command: /Library/Frameworks/R.framework/Resources/bin/R CMD build --keep-empty-dirs --no-resave-data scanMiRApp StartedAt: 2025-01-31 07:07:55 -0500 (Fri, 31 Jan 2025) EndedAt: 2025-01-31 07:09:43 -0500 (Fri, 31 Jan 2025) EllapsedTime: 107.7 seconds RetCode: 0 Status: OK PackageFile: scanMiRApp_1.12.0.tar.gz PackageFileSize: 904.5 KiB