Package: scanMiRApp Version: 1.12.0 Command: rm -rf scanMiRApp.buildbin-libdir && mkdir scanMiRApp.buildbin-libdir && /Users/biocbuild/BBS/utils/build-universal.sh scanMiRApp_1.12.0.tar.gz /Library/Frameworks/R.framework/Resources/bin/R scanMiRApp.buildbin-libdir StartedAt: 2025-02-01 16:42:52 -0500 (Sat, 01 Feb 2025) EndedAt: 2025-02-01 16:43:51 -0500 (Sat, 01 Feb 2025) EllapsedTime: 58.9 seconds RetCode: 0 Status: OK PackageFile: scanMiRApp_1.12.0.tgz PackageFileSize: 1.362 MiB