Package: scafari Version: 1.0.0 Command: /home/biocbuild/bbs-3.22-bioc/R/bin/R CMD INSTALL scafari StartedAt: 2025-11-11 15:51:25 -0500 (Tue, 11 Nov 2025) EndedAt: 2025-11-11 15:52:24 -0500 (Tue, 11 Nov 2025) EllapsedTime: 59.0 seconds RetCode: 0 Status: OK