Package: scTreeViz Version: 1.14.1 Command: /home/biocbuild/bbs-3.21-bioc/R/bin/R CMD INSTALL scTreeViz StartedAt: 2025-10-12 15:53:26 -0400 (Sun, 12 Oct 2025) EndedAt: 2025-10-12 15:54:36 -0400 (Sun, 12 Oct 2025) EllapsedTime: 69.2 seconds RetCode: 0 Status: OK