Package: scTreeViz Version: 1.14.1 Command: /home/biocbuild/bbs-3.21-bioc/R/bin/R CMD build --keep-empty-dirs --no-resave-data scTreeViz StartedAt: 2025-10-12 19:52:16 -0400 (Sun, 12 Oct 2025) EndedAt: 2025-10-12 19:54:55 -0400 (Sun, 12 Oct 2025) EllapsedTime: 159.2 seconds RetCode: 0 Status: OK PackageFile: scTreeViz_1.14.1.tar.gz PackageFileSize: 2.298 MiB