Package: scTensor Version: 2.18.0 Command: /home/biocbuild/R/R/bin/R CMD build --keep-empty-dirs --no-resave-data scTensor StartedAt: 2025-04-22 04:24:23 -0000 (Tue, 22 Apr 2025) EndedAt: 2025-04-22 04:26:53 -0000 (Tue, 22 Apr 2025) EllapsedTime: 150.0 seconds RetCode: 1 Status: ERROR PackageFile: None PackageFileSize: NA