Package: scTensor Version: 2.18.0 Command: /Library/Frameworks/R.framework/Resources/bin/R CMD build --keep-empty-dirs --no-resave-data scTensor StartedAt: 2025-05-13 08:14:48 -0400 (Tue, 13 May 2025) EndedAt: 2025-05-13 08:17:02 -0400 (Tue, 13 May 2025) EllapsedTime: 133.7 seconds RetCode: 1 Status: ERROR PackageFile: None PackageFileSize: NA