Package: scTHI Version: 1.20.0 Command: /Library/Frameworks/R.framework/Resources/bin/R CMD build --keep-empty-dirs --no-resave-data scTHI StartedAt: 2025-05-01 22:17:04 -0400 (Thu, 01 May 2025) EndedAt: 2025-05-01 22:19:01 -0400 (Thu, 01 May 2025) EllapsedTime: 117.7 seconds RetCode: 0 Status: OK PackageFile: scTHI_1.20.0.tar.gz PackageFileSize: 903.5 KiB