Package: scTHI Version: 1.20.0 Command: rm -rf scTHI.buildbin-libdir && mkdir scTHI.buildbin-libdir && /Users/biocbuild/BBS/utils/build-universal.sh scTHI_1.20.0.tar.gz /Library/Frameworks/R.framework/Resources/bin/R scTHI.buildbin-libdir StartedAt: 2025-05-02 14:26:51 -0400 (Fri, 02 May 2025) EndedAt: 2025-05-02 14:26:59 -0400 (Fri, 02 May 2025) EllapsedTime: 8.2 seconds RetCode: 0 Status: OK PackageFile: scTHI_1.20.0.tgz PackageFileSize: 941.5 KiB