Package: scTHI Version: 1.20.0 Command: /Library/Frameworks/R.framework/Resources/bin/R CMD check --install=check:scTHI.install-out.txt --library=/Library/Frameworks/R.framework/Resources/library --no-vignettes --timings scTHI_1.20.0.tar.gz StartedAt: 2025-04-21 23:27:42 -0400 (Mon, 21 Apr 2025) EndedAt: 2025-04-21 23:28:51 -0400 (Mon, 21 Apr 2025) EllapsedTime: 68.8 seconds RetCode: 0 Status: OK CheckDir: scTHI.Rcheck Warnings: 0