Package: scShapes Version: 1.12.0 Command: /Library/Frameworks/R.framework/Resources/bin/R CMD build --keep-empty-dirs --no-resave-data scShapes StartedAt: 2025-01-03 07:35:15 -0500 (Fri, 03 Jan 2025) EndedAt: 2025-01-03 07:37:18 -0500 (Fri, 03 Jan 2025) EllapsedTime: 122.3 seconds RetCode: 0 Status: OK PackageFile: scShapes_1.12.0.tar.gz PackageFileSize: 29.79 KiB