Package: scRecover Version: 1.24.0 Command: /Library/Frameworks/R.framework/Resources/bin/R CMD check --install=check:scRecover.install-out.txt --library=/Library/Frameworks/R.framework/Resources/library --no-vignettes --timings scRecover_1.24.0.tar.gz StartedAt: 2025-04-21 23:25:56 -0400 (Mon, 21 Apr 2025) EndedAt: 2025-04-21 23:27:59 -0400 (Mon, 21 Apr 2025) EllapsedTime: 123.8 seconds RetCode: 0 Status: OK CheckDir: scRecover.Rcheck Warnings: 0