Package: scReClassify Version: 1.14.0 Command: /Library/Frameworks/R.framework/Resources/bin/R CMD INSTALL scReClassify StartedAt: 2025-04-21 15:47:32 -0400 (Mon, 21 Apr 2025) EndedAt: 2025-04-21 15:48:03 -0400 (Mon, 21 Apr 2025) EllapsedTime: 30.6 seconds RetCode: 0 Status: OK